BEGIN:VCALENDAR
VERSION:2.0
PRODID:-//Muscatine Symphony Orchestra - ECPv6.15.18//NONSGML v1.0//EN
CALSCALE:GREGORIAN
METHOD:PUBLISH
X-WR-CALNAME:Muscatine Symphony Orchestra
X-ORIGINAL-URL:https://muscatinesymphony.org
X-WR-CALDESC:Events for Muscatine Symphony Orchestra
REFRESH-INTERVAL;VALUE=DURATION:PT1H
X-Robots-Tag:noindex
X-PUBLISHED-TTL:PT1H
BEGIN:VTIMEZONE
TZID:America/Chicago
BEGIN:DAYLIGHT
TZOFFSETFROM:-0600
TZOFFSETTO:-0500
TZNAME:CDT
DTSTART:20230312T080000
END:DAYLIGHT
BEGIN:STANDARD
TZOFFSETFROM:-0500
TZOFFSETTO:-0600
TZNAME:CST
DTSTART:20231105T070000
END:STANDARD
BEGIN:DAYLIGHT
TZOFFSETFROM:-0600
TZOFFSETTO:-0500
TZNAME:CDT
DTSTART:20240310T080000
END:DAYLIGHT
BEGIN:STANDARD
TZOFFSETFROM:-0500
TZOFFSETTO:-0600
TZNAME:CST
DTSTART:20241103T070000
END:STANDARD
BEGIN:DAYLIGHT
TZOFFSETFROM:-0600
TZOFFSETTO:-0500
TZNAME:CDT
DTSTART:20250309T080000
END:DAYLIGHT
BEGIN:STANDARD
TZOFFSETFROM:-0500
TZOFFSETTO:-0600
TZNAME:CST
DTSTART:20251102T070000
END:STANDARD
END:VTIMEZONE
BEGIN:VEVENT
DTSTART;TZID=America/Chicago:20241207T190000
DTEND;TZID=America/Chicago:20241207T210000
DTSTAMP:20260423T053115
CREATED:20240329T185952Z
LAST-MODIFIED:20241127T190252Z
UID:101255-1733598000-1733605200@muscatinesymphony.org
SUMMARY:Holiday Concert
DESCRIPTION:Celebrate the season with an evening of festive music at our Annual Community Holiday Concert! Join us for a joyful night filled with holiday favorites\, performed by your own Muscatine Symphony Orchestra \nBest of all\, this concert is free—bringing the magic of the holidays to everyone!
URL:https://muscatinesymphony.org/event/december-concert/
LOCATION:Wesley United Methodist Church\, 400 Iowa Ave\, Muscatine\, IA\, 52761\, United States
CATEGORIES:Concerts
ATTACH;FMTTYPE=image/png:https://muscatinesymphony.org/wp-content/uploads/2024/03/community-Holiday-Concert.png
END:VEVENT
END:VCALENDAR